BEGIN:VCALENDAR
VERSION:2.0
PRODID:-//Extra Special People - ECPv6.15.17//NONSGML v1.0//EN
CALSCALE:GREGORIAN
METHOD:PUBLISH
X-ORIGINAL-URL:https://espyouandme.org
X-WR-CALDESC:Events for Extra Special People
REFRESH-INTERVAL;VALUE=DURATION:PT1H
X-Robots-Tag:noindex
X-PUBLISHED-TTL:PT1H
BEGIN:VTIMEZONE
TZID:America/New_York
BEGIN:DAYLIGHT
TZOFFSETFROM:-0500
TZOFFSETTO:-0400
TZNAME:EDT
DTSTART:20240310T070000
END:DAYLIGHT
BEGIN:STANDARD
TZOFFSETFROM:-0400
TZOFFSETTO:-0500
TZNAME:EST
DTSTART:20241103T060000
END:STANDARD
BEGIN:DAYLIGHT
TZOFFSETFROM:-0500
TZOFFSETTO:-0400
TZNAME:EDT
DTSTART:20250309T070000
END:DAYLIGHT
BEGIN:STANDARD
TZOFFSETFROM:-0400
TZOFFSETTO:-0500
TZNAME:EST
DTSTART:20251102T060000
END:STANDARD
BEGIN:DAYLIGHT
TZOFFSETFROM:-0500
TZOFFSETTO:-0400
TZNAME:EDT
DTSTART:20260308T070000
END:DAYLIGHT
BEGIN:STANDARD
TZOFFSETFROM:-0400
TZOFFSETTO:-0500
TZNAME:EST
DTSTART:20261101T060000
END:STANDARD
BEGIN:DAYLIGHT
TZOFFSETFROM:-0500
TZOFFSETTO:-0400
TZNAME:EDT
DTSTART:20270314T070000
END:DAYLIGHT
BEGIN:STANDARD
TZOFFSETFROM:-0400
TZOFFSETTO:-0500
TZNAME:EST
DTSTART:20271107T060000
END:STANDARD
END:VTIMEZONE
BEGIN:VEVENT
DTSTART;TZID=America/New_York:20260202T110000
DTEND;TZID=America/New_York:20260202T130000
DTSTAMP:20260421T000757
CREATED:20260128T165321Z
LAST-MODIFIED:20260402T125134Z
UID:10000612-1770030000-1770037200@espyouandme.org
SUMMARY:ESP Atlanta: Day Program
DESCRIPTION:
URL:https://espyouandme.org/event/esp-atlanta-day-program-3/2026-02-02/
LOCATION:ESP Atlanta
CATEGORIES:Atlanta
END:VEVENT
BEGIN:VEVENT
DTSTART;TZID=America/New_York:20260128T110000
DTEND;TZID=America/New_York:20260128T130000
DTSTAMP:20260421T000757
CREATED:20260116T200509Z
LAST-MODIFIED:20260402T125537Z
UID:10000746-1769598000-1769605200@espyouandme.org
SUMMARY:ESP Atlanta: Day Program
DESCRIPTION:
URL:https://espyouandme.org/event/esp-atlanta-day-program-2/2026-01-28/
LOCATION:ESP Atlanta
CATEGORIES:Atlanta
END:VEVENT
BEGIN:VEVENT
DTSTART;TZID=America/New_York:20260126T110000
DTEND;TZID=America/New_York:20260126T130000
DTSTAMP:20260421T000757
CREATED:20260128T165321Z
LAST-MODIFIED:20260402T125134Z
UID:10000812-1769425200-1769432400@espyouandme.org
SUMMARY:ESP Atlanta: Day Program
DESCRIPTION:
URL:https://espyouandme.org/event/esp-atlanta-day-program-3/2026-01-26/
LOCATION:ESP Atlanta
CATEGORIES:Atlanta
END:VEVENT
BEGIN:VEVENT
DTSTART;TZID=America/New_York:20260123T180000
DTEND;TZID=America/New_York:20260123T203000
DTSTAMP:20260421T000757
CREATED:20260116T194819Z
LAST-MODIFIED:20260128T165054Z
UID:10000604-1769191200-1769200200@espyouandme.org
SUMMARY:ESP Atlanta: January Club Event
DESCRIPTION:Come join us at our “Game On” Club Event at Roswell Street Church! We will turn our space in an immersive gaming experience! We will have activities all centered around various games. YOU WANT TO BE THERE!! 🎱🕹👾
URL:https://espyouandme.org/event/esp-atlanta-january-club-event/
LOCATION:ESP Atlanta
CATEGORIES:Atlanta
END:VEVENT
BEGIN:VEVENT
DTSTART;TZID=America/New_York:20260121T110000
DTEND;TZID=America/New_York:20260121T130000
DTSTAMP:20260421T000757
CREATED:20260116T200509Z
LAST-MODIFIED:20260402T125537Z
UID:10000677-1768993200-1769000400@espyouandme.org
SUMMARY:ESP Atlanta: Day Program
DESCRIPTION:
URL:https://espyouandme.org/event/esp-atlanta-day-program-2/2026-01-21/
LOCATION:ESP Atlanta
CATEGORIES:Atlanta
END:VEVENT
BEGIN:VEVENT
DTSTART;TZID=America/New_York:20260108T180000
DTEND;TZID=America/New_York:20260108T200000
DTSTAMP:20260421T000757
CREATED:20260116T182829Z
LAST-MODIFIED:20260126T194058Z
UID:10000597-1767895200-1767902400@espyouandme.org
SUMMARY:ESP Atlanta: January Family Dinner
DESCRIPTION:There’s no better place to be than around the ESP table. Join us on January 8th at Roswell Street Baptist Church for Family Dinner\, a night to slow down\, share a meal\, and connect with friends who feel like family. Good food\, good conversation\, and lots of joy are guaranteed. We’d love to see you there!
URL:https://espyouandme.org/event/esp-atlanta-january-family-dinner/
LOCATION:ESP Atlanta
CATEGORIES:Atlanta,Community Event
END:VEVENT
BEGIN:VEVENT
DTSTART;TZID=America/New_York:20251213T120000
DTEND;TZID=America/New_York:20251213T160000
DTSTAMP:20260421T000757
CREATED:20250930T123302Z
LAST-MODIFIED:20251027T171853Z
UID:10000573-1765627200-1765641600@espyouandme.org
SUMMARY:Jolly Jubilee
DESCRIPTION:The most wonderful time of the year is here\, and we can’t wait to celebrate with you! Join us for Jolly Jubilee — a festive family event full of holiday cheer\, fun activities\, and time together with friends.
URL:https://espyouandme.org/event/jolly-jubilee-3/
LOCATION:Roswell Street Baptist Church\, 774 Roswell Street Northeast\, Marietta\, Georgia\, 30060
END:VEVENT
BEGIN:VEVENT
DTSTART;TZID=America/New_York:20251212T180000
DTEND;TZID=America/New_York:20251212T203000
DTSTAMP:20260421T000757
CREATED:20250930T124038Z
LAST-MODIFIED:20250930T124038Z
UID:10000574-1765562400-1765571400@espyouandme.org
SUMMARY:Retro Rewind Club Event
DESCRIPTION:We’re throwing it back for a night full of old-school fun! Join us at Retro Rewind Club for music\, games\, and memories from the past — all with a joyful esp twist. Come ready to dance\, laugh\, and celebrate together as we rewind the clock and make new memories along the way.
URL:https://espyouandme.org/event/retro-rewind-club-event/
LOCATION:ESP Atlanta
CATEGORIES:Atlanta
END:VEVENT
BEGIN:VEVENT
DTSTART;TZID=America/New_York:20251114T180000
DTEND;TZID=America/New_York:20251114T203000
DTSTAMP:20260421T000757
CREATED:20250930T125114Z
LAST-MODIFIED:20250930T125114Z
UID:10000576-1763143200-1763152200@espyouandme.org
SUMMARY:Once Upon A Time Club Event
DESCRIPTION:Join us for a night where stories come to life! Our Once Upon a Time Club will be full of fun\, creativity\, and time together with friends. From favorite fairytales to magical moments\, it’s going to be an evening you don’t want to miss.
URL:https://espyouandme.org/event/once-upon-a-time-club-event/
LOCATION:ESP Atlanta
CATEGORIES:Atlanta
END:VEVENT
BEGIN:VEVENT
DTSTART;TZID=America/New_York:20251017T180000
DTEND;TZID=America/New_York:20251017T200000
DTSTAMP:20260421T000757
CREATED:20250930T125916Z
LAST-MODIFIED:20250930T125916Z
UID:10000578-1760724000-1760731200@espyouandme.org
SUMMARY:Jurassic Park Club Event
DESCRIPTION:Adventure awaits at our Jurassic Park Club Event! 🦕 Together\, we’ll explore a night full of dinosaur-themed fun\, creative activities\, and plenty of joy.
URL:https://espyouandme.org/event/jurassic-park-club-event/
LOCATION:ESP Atlanta
CATEGORIES:Atlanta
END:VEVENT
BEGIN:VEVENT
DTSTART;TZID=America/New_York:20251007T180000
DTEND;TZID=America/New_York:20251007T200000
DTSTAMP:20260421T000757
CREATED:20250930T130227Z
LAST-MODIFIED:20250930T130227Z
UID:10000579-1759860000-1759867200@espyouandme.org
SUMMARY:esp Atlanta: October Family Dinner & Java Joy Atlanta's 5th Birthday Celebration
DESCRIPTION:What’s better than a family dinner? A family dinner AND a birthday party! 🎂 We’re celebrating Java Joy Atlanta’s 5th Birthday in true esp fashion — surrounded by friends\, food\, and joy. This evening we will honor the Joyristas and all the lives touched by Java Joy these past five years. Come hungry\, come joyful\, and come ready to celebrate! 💛
URL:https://espyouandme.org/event/esp-atlanta-october-family-dinner-java-joy-atlantas-5th-birthday-celebration/
LOCATION:ESP Atlanta
CATEGORIES:Atlanta
END:VEVENT
BEGIN:VEVENT
DTSTART;TZID=America/New_York:20250926T180000
DTEND;TZID=America/New_York:20250926T203000
DTSTAMP:20260421T000757
CREATED:20250930T123002Z
LAST-MODIFIED:20250930T123002Z
UID:10000572-1758909600-1758918600@espyouandme.org
SUMMARY:Out of This World Club Event
DESCRIPTION:Get ready to blast off for an evening of fun and adventure! Our Out of This World Club event is packed with games\, activities\, and excitement that are truly out of this world. Come join friends\, make memories\, and enjoy an evening that’s anything but ordinary!
URL:https://espyouandme.org/event/out-of-this-world-club-event/
LOCATION:ESP Atlanta
CATEGORIES:Atlanta
END:VEVENT
BEGIN:VEVENT
DTSTART;TZID=America/New_York:20250626T180000
DTEND;TZID=America/New_York:20250626T200000
DTSTAMP:20260421T000757
CREATED:20250625T152530Z
LAST-MODIFIED:20250625T153039Z
UID:10000458-1750960800-1750968000@espyouandme.org
SUMMARY:esp Atlanta Family Dinner
DESCRIPTION:You’re Invited: ESP Family Dinner! 🍽️\nJoin us for a special evening of great food\, even better fellowship\, and unforgettable memories at Family Dinner! This is a perfect opportunity to connect with other esp families\, share stories\, and celebrate the amazing community we’re building together. \nDon’t miss out – RSVP today on CampSite!\nWe can’t wait to see you there! 💙
URL:https://espyouandme.org/event/esp-atlanta-family-dinner/
LOCATION:ESP Atlanta
CATEGORIES:Atlanta,Community Event
END:VEVENT
END:VCALENDAR